BEGIN:VCALENDAR
VERSION:2.0
PRODID:-//Vulcan County Health &amp; Wellness Foundation - ECPv6.15.20//NONSGML v1.0//EN
CALSCALE:GREGORIAN
METHOD:PUBLISH
X-WR-CALNAME:Vulcan County Health &amp; Wellness Foundation
X-ORIGINAL-URL:https://www.vchwfoundation.com
X-WR-CALDESC:Events for Vulcan County Health &amp; Wellness Foundation
REFRESH-INTERVAL;VALUE=DURATION:PT1H
X-Robots-Tag:noindex
X-PUBLISHED-TTL:PT1H
BEGIN:VTIMEZONE
TZID:America/Edmonton
BEGIN:DAYLIGHT
TZOFFSETFROM:-0700
TZOFFSETTO:-0600
TZNAME:MDT
DTSTART:20240310T090000
END:DAYLIGHT
BEGIN:STANDARD
TZOFFSETFROM:-0600
TZOFFSETTO:-0700
TZNAME:MST
DTSTART:20241103T080000
END:STANDARD
BEGIN:DAYLIGHT
TZOFFSETFROM:-0700
TZOFFSETTO:-0600
TZNAME:MDT
DTSTART:20250309T090000
END:DAYLIGHT
BEGIN:STANDARD
TZOFFSETFROM:-0600
TZOFFSETTO:-0700
TZNAME:MST
DTSTART:20251102T080000
END:STANDARD
BEGIN:DAYLIGHT
TZOFFSETFROM:-0700
TZOFFSETTO:-0600
TZNAME:MDT
DTSTART:20260308T090000
END:DAYLIGHT
BEGIN:STANDARD
TZOFFSETFROM:-0600
TZOFFSETTO:-0700
TZNAME:MST
DTSTART:20261101T080000
END:STANDARD
END:VTIMEZONE
BEGIN:VEVENT
DTSTART;TZID=America/Edmonton:20250124T080000
DTEND;TZID=America/Edmonton:20250124T170000
DTSTAMP:20260421T103445
CREATED:20250115T033011Z
LAST-MODIFIED:20250115T033011Z
UID:2619-1737705600-1737738000@www.vchwfoundation.com
SUMMARY:Event 2
DESCRIPTION:Blah Blah Blah
URL:https://www.vchwfoundation.com/wellness-programming/event-2/
LOCATION:Vulcan Town Office\, Vulcan
END:VEVENT
BEGIN:VEVENT
DTSTART;VALUE=DATE:20250124
DTEND;VALUE=DATE:20250125
DTSTAMP:20260421T103445
CREATED:20241129T192750Z
LAST-MODIFIED:20250115T032248Z
UID:2596-1737676800-1737763199@www.vchwfoundation.com
SUMMARY:Test Event 1
DESCRIPTION:Mitch Test
URL:https://www.vchwfoundation.com/wellness-programming/test-event-1/
LOCATION:Vulcan Town Office\, Vulcan
CATEGORIES:Wellness
ATTACH;FMTTYPE=image/jpeg:https://www.vchwfoundation.com/wp-content/uploads/2022/05/P1199363.jpg
END:VEVENT
END:VCALENDAR